BEGIN:VCALENDAR
PRODID:-//github.com/ical-org/ical.net//NONSGML ical.net 5.1.3//EN
VERSION:2.0
BEGIN:VEVENT
DESCRIPTION:The 10th Circumpolar Agriculture Conference\, titled "New think
 ing about local agriculture in the circumpolar Arctic – Best practices\,
  innovations and perspectives"\, will take place from 13-15 March 2019 at 
 the Arctic Centre\, University of Lapland in Rovaniemi\, Finland.
DTEND:20190315T000000Z
DTSTAMP:20260421T011725Z
DTSTART:20190313T000000Z
LAST-MODIFIED:20180404T133831Z
LOCATION:Rovaniemi\, Finland
SEQUENCE:0
SUMMARY:10th Circumpolar Agriculture Conference
UID:cdceece7-0e8c-4098-b24d-0a0e507d7b4e@www.uarctic.org
URL:https://www.uarctic.org/about-us/calendar/10th-circumpolar-agriculture-
 conference/
END:VEVENT
END:VCALENDAR
