BEGIN:VCALENDAR
PRODID:-//github.com/ical-org/ical.net//NONSGML ical.net 5.1.3//EN
VERSION:2.0
BEGIN:VEVENT
DESCRIPTION:The 10th Polar Law Symposium 2017 is organized by The Northern 
 Institute for Environmental and Minority Law (NIEM) at the Arctic Centre o
 f the University of Lapland. The venue is the Arctic Centre in Rovaniemi\,
  Finland. The symposium is integrated with the biennial Rovaniemi Arctic 
 Spirit Conference\, to be held from 14–16 November 2017.
DTEND:20171116T170000Z
DTSTAMP:20260419T205619Z
DTSTART:20171114T120000Z
LAST-MODIFIED:20171204T074752Z
LOCATION:Arctic Centre (Arktikum Building)\, 4 Pohjoisranta\, 96101 Rovanie
 mi\, Finland
SEQUENCE:0
SUMMARY:10th Polar Law Symposium 2017
UID:a4b993c2-9bc6-47de-b505-c2dc4de48b55@www.uarctic.org
URL:https://www.uarctic.org/about-us/calendar/10th-polar-law-symposium-2017
 /
END:VEVENT
END:VCALENDAR
