BEGIN:VCALENDAR
PRODID:-//github.com/ical-org/ical.net//NONSGML ical.net 5.1.3//EN
VERSION:2.0
BEGIN:VEVENT
DESCRIPTION:The 11th International Conference on Permafrost (ICOP 2016) aim
 s at covering all relevant aspects of permafrost research\, engineering an
 d outreach on a global and regional level.
DTEND:20150624T160000Z
DTSTAMP:20260423T111235Z
DTSTART:20150620T080000Z
LAST-MODIFIED:20150223T165544Z
LOCATION:Potsdam\, Germany
SEQUENCE:0
SUMMARY:11th International Conference on Permafrost
UID:8164205e-7bb5-47f0-9d66-97d1de8d1021@www.uarctic.org
URL:https://www.uarctic.org/about-us/calendar/11th-international-conference
 -on-permafrost/
END:VEVENT
END:VCALENDAR
