BEGIN:VCALENDAR
PRODID:-//github.com/ical-org/ical.net//NONSGML ical.net 5.1.3//EN
VERSION:2.0
BEGIN:VEVENT
DESCRIPTION:The theme of the 2015 Arctic Science Conference is Healthy Estu
 aries: Sustainability and Resilience\, and it includes traditional scienti
 fic disciplines\, science education\, arctic social sciences\, biomedical 
 research\, and artistic interpretation of the evolving North.
DTEND:20151003T160000Z
DTSTAMP:20260421T171319Z
DTSTART:20151001T080000Z
LAST-MODIFIED:20150824T132304Z
LOCATION:Anchorage\, Alaska
SEQUENCE:0
SUMMARY:2015 Arctic Science Conference\, Anchorage\, Alaska
UID:27065431-76f7-4007-8c9e-5073a254a9a2@www.uarctic.org
URL:https://www.uarctic.org/about-us/calendar/2015-arctic-science-conferenc
 e-anchorage-alaska/
END:VEVENT
END:VCALENDAR
