BEGIN:VCALENDAR
PRODID:-//github.com/ical-org/ical.net//NONSGML ical.net 5.1.3//EN
VERSION:2.0
BEGIN:VEVENT
DESCRIPTION:2016 Arctic Circle Assembly will be held October 7-9 in Reykjav
 ik\, Iceland.
DTEND:20161009T000000Z
DTSTAMP:20260421T152124Z
DTSTART:20161007T000000Z
LAST-MODIFIED:20160419T102016Z
LOCATION:
SEQUENCE:0
SUMMARY:2016 Arctic Circle Assembly
UID:f876f9ef-0405-4ab0-99e3-3850145bb35f@www.uarctic.org
URL:https://www.uarctic.org/about-us/calendar/2016-arctic-circle-assembly/
END:VEVENT
END:VCALENDAR
