BEGIN:VCALENDAR
PRODID:-//github.com/ical-org/ical.net//NONSGML ical.net 5.1.3//EN
VERSION:2.0
BEGIN:VEVENT
DESCRIPTION:The first UArctic Congress will be held in Saint-Petersburg\, R
 ussia\, from September 12th to 16th\, 2016. Hosted by Saint-Petersburg Sta
 te University\, the Congress will feature Science and Meeting sections. Ke
 y UArctic meetings include the Council of UArctic\, UArctic Rectors' Forum
 \, Student Forum\, and Thematic Network leaders.
DTEND:20160916T170000Z
DTSTAMP:20260421T140521Z
DTSTART:20160912T090000Z
LAST-MODIFIED:20150929T170023Z
LOCATION:St. Petersburg\, Russia
SEQUENCE:0
SUMMARY:2016 UArctic Congress
UID:efd8aebc-bbb2-4971-b0bb-500172e96b33@www.uarctic.org
URL:https://www.uarctic.org/about-us/calendar/2016-uarctic-congress/
END:VEVENT
END:VCALENDAR
