BEGIN:VCALENDAR
PRODID:-//github.com/ical-org/ical.net//NONSGML ical.net 5.1.3//EN
VERSION:2.0
BEGIN:VEVENT
DESCRIPTION:2017 Arctic Circle Assembly will be held October 13-15 in Reykj
 avik\, Iceland.
DTEND:20171015T000000Z
DTSTAMP:20260420T180534Z
DTSTART:20171013T000000Z
LAST-MODIFIED:20160419T094130Z
LOCATION:
SEQUENCE:0
SUMMARY:2017 Arctic Circle Assembly
UID:891ccf98-1095-48e9-ab65-c563d5c1620c@www.uarctic.org
URL:https://www.uarctic.org/about-us/calendar/2017-arctic-circle-assembly/
END:VEVENT
END:VCALENDAR
