BEGIN:VCALENDAR
PRODID:-//github.com/ical-org/ical.net//NONSGML ical.net 5.1.3//EN
VERSION:2.0
BEGIN:VEVENT
DESCRIPTION:The biannual Arctic conference “Rovaniemi Arctic Spirit” wi
 ll be held 14-16 November 2017 in Lappia Hall\, Rovaniemi.
DTEND:20171116T000000Z
DTSTAMP:20260420T010156Z
DTSTART:20171114T000000Z
LAST-MODIFIED:20170908T134514Z
LOCATION:Lappia Hall\, Hallituskatu 11\, 96100 Rovaniemi
SEQUENCE:0
SUMMARY:2017 Rovaniemi Arctic Spirit conference
UID:a2defe1b-88e6-4181-977f-702efd3c5865@www.uarctic.org
URL:https://www.uarctic.org/about-us/calendar/2017-rovaniemi-arctic-spirit-
 conference/
END:VEVENT
END:VCALENDAR
