BEGIN:VCALENDAR
PRODID:-//github.com/ical-org/ical.net//NONSGML ical.net 5.1.3//EN
VERSION:2.0
BEGIN:VEVENT
DESCRIPTION:The 2019 Arctic Circle Assembly is organized in Reykjavik\, Ice
 land from October 10-13\, 2019.
DTEND:20191013T000000Z
DTSTAMP:20260420T181838Z
DTSTART:20191010T000000Z
LAST-MODIFIED:20190204T111314Z
LOCATION:Reykjavik\, Iceland
SEQUENCE:0
SUMMARY:2019 Arctic Circle Assembly
UID:c631e84a-11a2-419e-90fb-2c3165575e0c@www.uarctic.org
URL:https://www.uarctic.org/about-us/calendar/2019-arctic-circle-assembly/
END:VEVENT
END:VCALENDAR
