BEGIN:VCALENDAR
PRODID:-//github.com/ical-org/ical.net//NONSGML ical.net 5.1.3//EN
VERSION:2.0
BEGIN:VEVENT
DESCRIPTION:The Rovaniemi Arctic Spirit Conference\, fourth in a series\, f
 ocuses on climate change in the Arctic\, especially from the point of view
  of young people. The conference will take place in Rovaniemi\, Finland fr
 om 12-13 November 2019.
DTEND:20191113T000000Z
DTSTAMP:20260420T161436Z
DTSTART:20191112T000000Z
LAST-MODIFIED:20190925T092435Z
LOCATION:Rovaniemi\, Finland
SEQUENCE:0
SUMMARY:2019 Rovaniemi Arctic Spirit
UID:8c02065c-1698-4dff-a0ae-82cca0c030d7@www.uarctic.org
URL:https://www.uarctic.org/about-us/calendar/2019-rovaniemi-arctic-spirit/
END:VEVENT
END:VCALENDAR
