BEGIN:VCALENDAR
PRODID:-//github.com/ical-org/ical.net//NONSGML ical.net 5.1.3//EN
VERSION:2.0
BEGIN:VEVENT
DESCRIPTION:The third meeting of the Assembly of UArctic will be held from 
 June 1-3\, 2022 in Portland\, Maine\, USA.\nThe 2022 Assembly of UArctic m
 eeting is co-hosted by the University of Southern Maine\, Dartmouth Colleg
 e\, University of Maine\, University of New England\, and University of N
 ew Hampshire.
DTEND:20220603T000000Z
DTSTAMP:20260421T004338Z
DTSTART:20220601T000000Z
LAST-MODIFIED:20220404T133039Z
LOCATION:Portland\, Maine\, USA
SEQUENCE:0
SUMMARY:2022 Meeting of the Assembly of UArctic
UID:3b3c1c10-2af1-409f-9294-c39ba61cb62a@www.uarctic.org
URL:https://www.uarctic.org/about-us/calendar/2022-meeting-of-the-assembly-
 of-uarctic/
END:VEVENT
END:VCALENDAR
