BEGIN:VCALENDAR
PRODID:-//github.com/ical-org/ical.net//NONSGML ical.net 5.1.3//EN
VERSION:2.0
BEGIN:VEVENT
DESCRIPTION:\nThe 2023 Arctic Circle Assembly will be held in Harpa Concert
  Hall and Conference Centre\, Reykjavík\, Iceland on 19-22 October.\n
DTEND:20231022T000000Z
DTSTAMP:20260421T152126Z
DTSTART:20231019T000000Z
LAST-MODIFIED:20230117T083127Z
LOCATION:Reykjavík\, Iceland
SEQUENCE:0
SUMMARY:2023 Arctic Circle Assembly
UID:9b6b0467-cd9c-4d41-b8bb-16b8f51bdeb1@www.uarctic.org
URL:https://www.uarctic.org/about-us/calendar/2023-arctic-circle-assembly/
END:VEVENT
END:VCALENDAR
