BEGIN:VCALENDAR
PRODID:-//github.com/ical-org/ical.net//NONSGML ical.net 5.1.3//EN
VERSION:2.0
BEGIN:VEVENT
DESCRIPTION:The 28th Polar Libraries Colloquy will be held June 5-11\, 2022
  in Quebec City\, Canada. The theme of the event is: Sharing Polar Culture
 s and Knowledge: Perspectives from Libraries and Archives. https://www.fou
 rwav.es/view/1500/info/  
DTEND:20210611T170000Z
DTSTAMP:20260421T152126Z
DTSTART:20210605T090000Z
LAST-MODIFIED:20220314T094113Z
LOCATION:Quebec City\, Canada
SEQUENCE:0
SUMMARY:28th Polar Libraries Colloquy
UID:eab2826a-e383-4db5-956b-51c9a1f37ffb@www.uarctic.org
URL:https://www.uarctic.org/about-us/calendar/28th-polar-libraries-colloquy
 /
END:VEVENT
END:VCALENDAR
