BEGIN:VCALENDAR
PRODID:-//github.com/ical-org/ical.net//NONSGML ical.net 5.1.3//EN
VERSION:2.0
BEGIN:VEVENT
DESCRIPTION:"Perceiving Arctic Change: Climate\, Society and Sustainability
 " side event will be held August 24 in Berlin. Side event is part of the 2
 nd Science Ministerial which is hosted by the European Commission together
  with Finland and Germany.
DTEND:20181024T220000Z
DTSTAMP:20260420T094253Z
DTSTART:20181024T180000Z
LAST-MODIFIED:20180910T113516Z
LOCATION:Hiroshimastr. 24\, Berlin\, Germany
SEQUENCE:0
SUMMARY:2nd Arctic Science Ministerial side-event "Perceiving Arctic Change
 "
UID:a50ed3ef-dd45-4c05-9e1f-8d02d175bd66@www.uarctic.org
URL:https://www.uarctic.org/about-us/calendar/2nd-arctic-science-ministeria
 l-side-event-perceiving-arctic-change/
END:VEVENT
END:VCALENDAR
