BEGIN:VCALENDAR
PRODID:-//github.com/ical-org/ical.net//NONSGML ical.net 5.1.3//EN
VERSION:2.0
BEGIN:VEVENT
DESCRIPTION:On 24-26 May 2017\, the 5th China-Nordic Arctic Cooperation Sym
 posium\, hosted by Dalian Maritime University in collaboration with Polar 
 Research Institute of China\, will take place in Dalian\, a port city in N
 orthern China\, with the conference theme of “Towards the Future: Trans-
 regional Cooperation in the Arctic: Development and Protection”.
DTEND:20170526T170000Z
DTSTAMP:20260421T152304Z
DTSTART:20170524T090004Z
LAST-MODIFIED:20170222T122628Z
LOCATION:Dalian\, China
SEQUENCE:0
SUMMARY:5th China-Nordic Arctic Cooperation Symposium
UID:8e3cb125-5b9d-4cdc-9c7f-b6c2421531a4@www.uarctic.org
URL:https://www.uarctic.org/about-us/calendar/5th-china-nordic-arctic-coope
 ration-symposium/
END:VEVENT
END:VCALENDAR
