BEGIN:VCALENDAR
PRODID:-//github.com/ical-org/ical.net//NONSGML ical.net 5.1.3//EN
VERSION:2.0
BEGIN:VEVENT
DESCRIPTION:The 9th Polar Law Symposium is organised by the Faculty of Law\
 , University of Akureyri\, in cooperation with the 4th Arctic Circle confe
 rence\, Reykjavík. This year's theme is the role of law in polar governan
 ce.
DTEND:20161009T160000Z
DTSTAMP:20260421T053337Z
DTSTART:20161005T080000Z
LAST-MODIFIED:20160129T092744Z
LOCATION:Akureyri and Reykjavik\, Iceland
SEQUENCE:0
SUMMARY:9th Polar Law Symposium
UID:33d1d3d9-3eaa-4b30-bce3-d4e4ffdeee72@www.uarctic.org
URL:https://www.uarctic.org/about-us/calendar/9th-polar-law-symposium-akure
 yri-iceland/
END:VEVENT
END:VCALENDAR
