BEGIN:VCALENDAR
PRODID:-//github.com/ical-org/ical.net//NONSGML ical.net 5.1.3//EN
VERSION:2.0
BEGIN:VEVENT
DESCRIPTION:The ARTEK International Conference 2018 offers an opportunity f
 or participants from the industry\, the public sector\, the science commun
 ity and other stakeholders to present\, discuss and exchange ideas and exp
 erience on how to plan\, design\, construct\, operate and maintain transpo
 rtation infrastructure in cold regions.
DTEND:20180503T150000Z
DTSTAMP:20260420T181344Z
DTSTART:20180501T090000Z
LAST-MODIFIED:20170920T093957Z
LOCATION:Sisimiut\, Greenland
SEQUENCE:0
SUMMARY:AIC 2018 - Transportation Infrastructure Engineering in Cold Region
 s
UID:0d54104f-20c4-468d-9795-7d404edafb85@www.uarctic.org
URL:https://www.uarctic.org/about-us/calendar/aic-2018-transportation-infra
 structure-engineering-in-cold-regions/
END:VEVENT
END:VCALENDAR
