BEGIN:VCALENDAR
PRODID:-//github.com/ical-org/ical.net//NONSGML ical.net 5.1.3//EN
VERSION:2.0
BEGIN:VEVENT
DESCRIPTION:Arctic Arts Summit 2019 - The Arctic as a laboratory for sustai
 nable art and cultural policy. Organized June 3-5\, 2019 in Rovaniemi\, Fi
 nland
DTEND:20190605T000000Z
DTSTAMP:20260421T140538Z
DTSTART:20190603T000000Z
LAST-MODIFIED:20181210T122043Z
LOCATION:Rovaniemi\, Finland
SEQUENCE:0
SUMMARY:Arctic Arts Summit 2019
UID:3a2e01e5-ace7-40cd-af03-e272a7b2ee2d@www.uarctic.org
URL:https://www.uarctic.org/about-us/calendar/arctic-arts-summit-2019/
END:VEVENT
END:VCALENDAR
