BEGIN:VCALENDAR
PRODID:-//github.com/ical-org/ical.net//NONSGML ical.net 5.1.3//EN
VERSION:2.0
BEGIN:VEVENT
DESCRIPTION:CAFF in partnership with the Ministry of the Environment\, Finl
 and\, is organizing the Arctic Biodiversity Congress 2018 to promote the c
 onservation and sustainable use of Arctic biodiversity. The Congress is re
 levant to all who wish to make specific and significant contributions to t
 he conservation of Arctic biodiversity.
DTEND:20181012T000000Z
DTSTAMP:20260421T034700Z
DTSTART:20181009T000000Z
LAST-MODIFIED:20180925T092543Z
LOCATION:Rovaniemi\, Finland
SEQUENCE:0
SUMMARY:Arctic Biodiversity Congress 2018
UID:986a69c1-df57-4a0b-bb79-86492b093bfe@www.uarctic.org
URL:https://www.uarctic.org/about-us/calendar/arctic-biodiversity-congress-
 2018/
END:VEVENT
END:VCALENDAR
