BEGIN:VCALENDAR
PRODID:-//github.com/ical-org/ical.net//NONSGML ical.net 5.1.3//EN
VERSION:2.0
BEGIN:VEVENT
DESCRIPTION:The Arctic Broadband Forum will unite educators\, researchers a
 nd industry from across the World to discuss the challenges\, successes an
 d potential of telecommunications and broadband deployment in the Arctic f
 or economics\, healthcare and education. Specific emphasis will be placed 
 on the role of broadband and digital technologies on the cultural preserva
 tion and self-determination of indigenous populations throughout the Arcti
 c.
DTEND:20170509T170000Z
DTSTAMP:20260420T181853Z
DTSTART:20170508T090000Z
LAST-MODIFIED:20170220T083227Z
LOCATION:Fairbanks\, AK\, USA
SEQUENCE:0
SUMMARY: Arctic Broadband Forum 2017
UID:8abb53e4-8e0b-435c-8981-e27b88d8efee@www.uarctic.org
URL:https://www.uarctic.org/about-us/calendar/arctic-broadband-forum-2017/
END:VEVENT
END:VCALENDAR
