BEGIN:VCALENDAR
PRODID:-//github.com/ical-org/ical.net//NONSGML ical.net 5.1.3//EN
VERSION:2.0
BEGIN:VEVENT
DESCRIPTION:The annual Arctic Business Forum in the heart of Lapland\, Finl
 and introduces the latest business development and the future prospects of
  the European High North economy. Arctic Business Forum is a discussion ar
 ena and a business-to-business meeting point valuing sustainable growth in
  the Arctic.
DTEND:20150312T150000Z
DTSTAMP:20260421T152216Z
DTSTART:20150310T120000Z
LAST-MODIFIED:20160527T183407Z
LOCATION:Rovaniemi\, Finland
SEQUENCE:0
SUMMARY:Arctic Business Forum 2015
UID:7fb1825a-bfb3-4213-a102-23d51af3104b@www.uarctic.org
URL:https://www.uarctic.org/about-us/calendar/arctic-business-forum-2015/
END:VEVENT
END:VCALENDAR
