BEGIN:VCALENDAR
PRODID:-//github.com/ical-org/ical.net//NONSGML ical.net 5.1.3//EN
VERSION:2.0
BEGIN:VEVENT
DESCRIPTION:The 2015 Arctic Circle Assembly will be held on October 16–18
 \, 2015 in Reykjavík\, Iceland.
DTEND:20151018T160000Z
DTSTAMP:20260421T092901Z
DTSTART:20151016T080000Z
LAST-MODIFIED:20150223T165138Z
LOCATION:Reykjavík\, Iceland
SEQUENCE:0
SUMMARY:Arctic Circle 2015
UID:795f275a-5901-4673-ab98-70bb8a70edb6@www.uarctic.org
URL:https://www.uarctic.org/about-us/calendar/arctic-circle-2015/
END:VEVENT
END:VCALENDAR
