BEGIN:VCALENDAR
PRODID:-//github.com/ical-org/ical.net//NONSGML ical.net 5.1.3//EN
VERSION:2.0
BEGIN:VEVENT
DESCRIPTION:\n\n\nThe Assembly will be held on October 14-17\, 2021\, at Ha
 rpa Conference Center and Concert Hall in Reykjavík\, Iceland.\n\n\n\n\n\
 n\n\n\n
DTEND:20211017T000000Z
DTSTAMP:20260420T180232Z
DTSTART:20211014T000000Z
LAST-MODIFIED:20210607T093618Z
LOCATION:Reykjavík\, Iceland
SEQUENCE:0
SUMMARY:Arctic Circle Assembly 2021
UID:b5c8d3f0-acab-4748-8f24-8dba01da530b@www.uarctic.org
URL:https://www.uarctic.org/about-us/calendar/arctic-circle-assembly-2021/
END:VEVENT
END:VCALENDAR
