BEGIN:VCALENDAR
PRODID:-//github.com/ical-org/ical.net//NONSGML ical.net 5.1.3//EN
VERSION:2.0
BEGIN:VEVENT
DESCRIPTION:The Assembly will be held on October 13-16\, 2022\, at Harpa Co
 nference Center and Concert Hall in Reykjavík\, Iceland.
DTEND:20221016T000000Z
DTSTAMP:20260420T094149Z
DTSTART:20221013T000000Z
LAST-MODIFIED:20220822T132436Z
LOCATION:
SEQUENCE:0
SUMMARY:Arctic Circle Assembly 2022
UID:a4ab4192-1ea9-446e-8d7e-04aac35dbbff@www.uarctic.org
URL:https://www.uarctic.org/about-us/calendar/arctic-circle-assembly-2022/
END:VEVENT
END:VCALENDAR
