BEGIN:VCALENDAR
PRODID:-//github.com/ical-org/ical.net//NONSGML ical.net 5.1.3//EN
VERSION:2.0
BEGIN:VEVENT
DESCRIPTION:Arctic Circle Forum will be held on December 7-8 in Seoul\, Kor
 ea under the title "Asia Meets the Arctic: Science\, Connectivity and Part
 nership".
DTEND:20181208T000000Z
DTSTAMP:20260421T165459Z
DTSTART:20181207T000000Z
LAST-MODIFIED:20180802T085707Z
LOCATION:Seoul\, Korea
SEQUENCE:0
SUMMARY:Arctic Circle Forum in Seoul\, Korea
UID:7d7b00c9-452f-431d-a9fd-8508800cb6e0@www.uarctic.org
URL:https://www.uarctic.org/about-us/calendar/arctic-circle-forum-in-seoul-
 korea/
END:VEVENT
END:VCALENDAR
