BEGIN:VCALENDAR
PRODID:-//github.com/ical-org/ical.net//NONSGML ical.net 5.1.3//EN
VERSION:2.0
BEGIN:VEVENT
DESCRIPTION:Arctic Circle and the Sasakawa Peace Foundation are pleased to 
 announce new dates for the Japan Forum and look forward to bringing the Ar
 ctic community together in Toranomon Hills Forum\, Tokyo on March 4-6\, 2
 023.
DTEND:20230306T000000Z
DTSTAMP:20260420T181937Z
DTSTART:20230304T000000Z
LAST-MODIFIED:20230214T122142Z
LOCATION:Tokyo
SEQUENCE:0
SUMMARY:Arctic Circle Japan Forum
UID:9d141e78-0e9b-43a0-9083-aa58fd3d8dd6@www.uarctic.org
URL:https://www.uarctic.org/about-us/calendar/arctic-circle-japan-forum/
END:VEVENT
END:VCALENDAR
