BEGIN:VCALENDAR
PRODID:-//github.com/ical-org/ical.net//NONSGML ical.net 5.1.3//EN
VERSION:2.0
BEGIN:VEVENT
DESCRIPTION:\nArctic Encounter Anchorage will take place on April 10-12\, 2
 024 in Anchorage\, AK\, USA.\n
DTEND:20240412T000000Z
DTSTAMP:20260421T030519Z
DTSTART:20240410T000000Z
LAST-MODIFIED:20230721T123201Z
LOCATION:Anchorage\, AK\, USA
SEQUENCE:0
SUMMARY:Arctic Encounter 2024 in Alaska
UID:b9149ea8-75d7-410d-89a3-b41cc9b87de4@www.uarctic.org
URL:https://www.uarctic.org/about-us/calendar/arctic-encounter-2024-in-alas
 ka/
END:VEVENT
END:VCALENDAR
