BEGIN:VCALENDAR
PRODID:-//github.com/ical-org/ical.net//NONSGML ical.net 5.1.3//EN
VERSION:2.0
BEGIN:VEVENT
DESCRIPTION:The 4th biennial 2017 Arctic Energy Summit will be held in Hels
 inki\, Finland\, on September 18-20\, 2017. Hosted by Institute of the Nor
 th and Finland Ministry of Economy and Employment. Call for Presentations:
  Expressions of interest encouraged by January 18\, 2017.
DTEND:20170920T120000Z
DTSTAMP:20260420T181838Z
DTSTART:20170918T120000Z
LAST-MODIFIED:20170510T133217Z
LOCATION:Helsinki\, Finland
SEQUENCE:0
SUMMARY:Arctic Energy Summit 2017 
UID:46978180-3c1f-4e6d-b3b1-ee5b5dc9155f@www.uarctic.org
URL:https://www.uarctic.org/about-us/calendar/arctic-energy-summit-2017/
END:VEVENT
END:VCALENDAR
