BEGIN:VCALENDAR
PRODID:-//github.com/ical-org/ical.net//NONSGML ical.net 5.1.3//EN
VERSION:2.0
BEGIN:VEVENT
DESCRIPTION:In 2018 the Arctic Frontiers Policy program will have five main
  sessions with the following tentative working titles: State of the Arctic
 \, Technology and connectivity\, Resilient Arctic societies and business d
 evelopment\, Healthy and productive oceans\, Industry and environment.\nAr
 ctic Frontiers Science 2018 takes place Tuesday 23 January until Thursday 
 25 January 2018 and will address the following topics: Aquaculture in the 
 High North in times of change\; the New Arctic in the Global Context\; Res
 ilient Arctic Societies and Industrial Development\; and Circumpolar Safet
 y\, Search and Rescue Collaboration.
DTEND:20180126T000000Z
DTSTAMP:20260420T181237Z
DTSTART:20180121T000000Z
LAST-MODIFIED:20170822T085349Z
LOCATION:Tromso\, Norway
SEQUENCE:0
SUMMARY:Arctic Frontiers 2018
UID:421f75f8-4c29-44b7-9e7a-c5c6db85b577@www.uarctic.org
URL:https://www.uarctic.org/about-us/calendar/arctic-frontiers-2018/
END:VEVENT
END:VCALENDAR
