BEGIN:VCALENDAR
PRODID:-//github.com/ical-org/ical.net//NONSGML ical.net 5.1.3//EN
VERSION:2.0
BEGIN:VEVENT
DESCRIPTION:\nThe theme of conference will be Actions and Reactions. This c
 onference will take place 29 January-1 February 2024 in Tromsø\, Norway.
 \n
DTEND:20240201T000000Z
DTSTAMP:20260421T152151Z
DTSTART:20240129T000000Z
LAST-MODIFIED:20230918T120344Z
LOCATION:Tromsø\, Norway
SEQUENCE:0
SUMMARY:Arctic Frontiers 2024
UID:62909ab8-79bf-4d75-82a5-50c5913821ba@www.uarctic.org
URL:https://www.uarctic.org/about-us/calendar/arctic-frontiers-2024/
END:VEVENT
END:VCALENDAR
