BEGIN:VCALENDAR
PRODID:-//github.com/ical-org/ical.net//NONSGML ical.net 5.1.3//EN
VERSION:2.0
BEGIN:VEVENT
DESCRIPTION:\nArctic Frontiers Abroad – Scotland will take place on Frida
 y 17 March 2023 in Aberdeen Science Centre.\n
DTEND:20230317T000000Z
DTSTAMP:20260421T182609Z
DTSTART:20230317T000000Z
LAST-MODIFIED:20230217T090240Z
LOCATION:Aberdeen
SEQUENCE:0
SUMMARY:Arctic Frontiers Abroad – Scotland
UID:6fee26de-e3a9-46d8-a6a3-5d8b01aac9c4@www.uarctic.org
URL:https://www.uarctic.org/about-us/calendar/arctic-frontiers-abroad-scotl
 and/
END:VEVENT
END:VCALENDAR
