BEGIN:VCALENDAR
PRODID:-//github.com/ical-org/ical.net//NONSGML ical.net 5.1.3//EN
VERSION:2.0
BEGIN:VEVENT
DESCRIPTION:\nUArctic member International Polar Foundation is hosting th
 e Arctic Futures Symposium 2022 on November 29th and 30th at the Residen
 ce Palace in the EU Quarter of Brussels. Registration is now open.\n
DTEND:20221130T000000Z
DTSTAMP:20260421T011629Z
DTSTART:20221129T000000Z
LAST-MODIFIED:20221019T150247Z
LOCATION:Brussels
SEQUENCE:0
SUMMARY:Arctic Futures Symposium 2022
UID:32a1f9e3-4064-4e2c-8f13-bb29bc9a7e05@www.uarctic.org
URL:https://www.uarctic.org/about-us/calendar/arctic-futures-symposium-2022
 /
END:VEVENT
END:VCALENDAR
