BEGIN:VCALENDAR
PRODID:-//github.com/ical-org/ical.net//NONSGML ical.net 5.1.3//EN
VERSION:2.0
BEGIN:VEVENT
DESCRIPTION:The International Polar Foundation and its many Arctic stakehol
 der partners invite you to take part in the 14th edition of the Arctic Fut
 ures Symposium on November 28th - 29th in Brussels\, Belgium.
DTEND:20231129T000000Z
DTSTAMP:20260421T152216Z
DTSTART:20231128T000000Z
LAST-MODIFIED:20231012T114059Z
LOCATION:Brussels\, Belgium
SEQUENCE:0
SUMMARY:Arctic Futures Symposium 2023
UID:e7cd018e-caa9-4f8b-a737-71ee19329902@www.uarctic.org
URL:https://www.uarctic.org/about-us/calendar/arctic-futures-symposium-2023
 /
END:VEVENT
END:VCALENDAR
