BEGIN:VCALENDAR
PRODID:-//github.com/ical-org/ical.net//NONSGML ical.net 5.1.3//EN
VERSION:2.0
BEGIN:VEVENT
DESCRIPTION:The Arctic Observing Open Science Meeting will bring together i
 ndividuals and teams involved in the collection\, processing\, analysis\, 
 and use of observations in the Arctic from academia\, agencies\, industry\
 , and other organizations.
DTEND:20151119T160000Z
DTSTAMP:20260421T042836Z
DTSTART:20151117T080000Z
LAST-MODIFIED:20150824T132401Z
LOCATION:Seattle\, Washington
SEQUENCE:0
SUMMARY:Arctic Observing Open Science Meeting
UID:382cad79-e1f9-459d-96ec-55dd50bd3eae@www.uarctic.org
URL:https://www.uarctic.org/about-us/calendar/arctic-observing-open-science
 -meeting/
END:VEVENT
END:VCALENDAR
