BEGIN:VCALENDAR
PRODID:-//github.com/ical-org/ical.net//NONSGML ical.net 5.1.3//EN
VERSION:2.0
BEGIN:VEVENT
DESCRIPTION:The theme for this hybrid Summit\, convening 30 March - 1 April
  2022\, in Tromsø\, Norway and online\, is Arctic observing at the inter
 section of health\, understanding\, and resilience.
DTEND:20220401T000000Z
DTSTAMP:20260421T152126Z
DTSTART:20220330T000000Z
LAST-MODIFIED:20211109T064535Z
LOCATION:Tromsø\, Norway
SEQUENCE:0
SUMMARY:Arctic Observing Summit 2022
UID:76cc6b90-a07e-4cf6-a8e6-06bf5cf5dfb0@www.uarctic.org
URL:https://www.uarctic.org/about-us/calendar/arctic-observing-summit-2022/
END:VEVENT
END:VCALENDAR
