BEGIN:VCALENDAR
PRODID:-//github.com/ical-org/ical.net//NONSGML ical.net 5.1.3//EN
VERSION:2.0
BEGIN:VEVENT
DESCRIPTION:Arctic Science Summit Week is the annual gathering of internati
 onal scientists and policymakers who advance Arctic research. Through sepa
 rate but related meetings and events\, the Summit provides opportunities f
 or international coordination\, collaboration and cooperation in all field
 s of Arctic science.
DTEND:20160318T000000Z
DTSTAMP:20260420T062103Z
DTSTART:20160312T000000Z
LAST-MODIFIED:20160527T183405Z
LOCATION:Fairbanks\, Alaska\, USA
SEQUENCE:0
SUMMARY:Arctic Science Summit Week 2016
UID:4ad2c6e1-5fa8-4df8-a138-bc4411e4362d@www.uarctic.org
URL:https://www.uarctic.org/about-us/calendar/arctic-science-summit-week-20
 16/
END:VEVENT
END:VCALENDAR
