BEGIN:VCALENDAR
PRODID:-//github.com/ical-org/ical.net//NONSGML ical.net 5.1.3//EN
VERSION:2.0
BEGIN:VEVENT
DESCRIPTION:The Arctic Science Summit Week 2017 will be held in 31 March-7 
 April in Prague\, Czech Republic.
DTEND:20170407T000000Z
DTSTAMP:20260421T053041Z
DTSTART:20170331T000000Z
LAST-MODIFIED:20170126T095435Z
LOCATION:Prague\, Czech Republic
SEQUENCE:0
SUMMARY:Arctic Science Summit Week 2017 
UID:02795537-f238-4c65-84dc-cadefddc2547@www.uarctic.org
URL:https://www.uarctic.org/about-us/calendar/arctic-science-summit-week-20
 17/
END:VEVENT
END:VCALENDAR
