BEGIN:VCALENDAR
PRODID:-//github.com/ical-org/ical.net//NONSGML ical.net 5.1.3//EN
VERSION:2.0
BEGIN:VEVENT
DESCRIPTION:The Arctic Science Summit Week (ASSW) is organized annually by 
 the International Arctic Science Committee (IASC) to provide opportunities
  for coordination\, cooperation and collaboration between the various scie
 ntific organizations involved in Arctic research. It was initiated by the 
 IASC in 1999 and has evolved into the most important annual gathering of t
 he Arctic research organization.
DTEND:20230224T000000Z
DTSTAMP:20260421T182540Z
DTSTART:20230217T000000Z
LAST-MODIFIED:20220627T160757Z
LOCATION:Vienna\, Austria
SEQUENCE:0
SUMMARY:Arctic Science Summit Week 2023
UID:86c31663-7df7-4fd2-b015-17c538ffe4d7@www.uarctic.org
URL:https://www.uarctic.org/about-us/calendar/arctic-science-summit-week-20
 23/
END:VEVENT
END:VCALENDAR
