BEGIN:VCALENDAR
PRODID:-//github.com/ical-org/ical.net//NONSGML ical.net 5.1.3//EN
VERSION:2.0
BEGIN:VEVENT
DESCRIPTION:The International Arctic Science Committee (IASC)\, University 
 of Edinburgh\, and Scottish Arctic Network are hosting ASSW 2024 in Edinbu
 rgh\, Scotland from March 21-29\, 2024.
DTEND:20240329T120000Z
DTSTAMP:20260420T160626Z
DTSTART:20240321T120000Z
LAST-MODIFIED:20230808T125429Z
LOCATION:Edinburgh\, Scotland
SEQUENCE:0
SUMMARY:Arctic Science Summit Week 2024
UID:9e21a44e-d58d-4a7e-b885-df2eb9fd1436@www.uarctic.org
URL:https://www.uarctic.org/about-us/calendar/arctic-science-summit-week-20
 24/
END:VEVENT
END:VCALENDAR
