BEGIN:VCALENDAR
PRODID:-//github.com/ical-org/ical.net//NONSGML ical.net 5.1.3//EN
VERSION:2.0
BEGIN:VEVENT
DESCRIPTION:ASSW 2020 has been moved online only due to the COVID-19 outbre
 ak.
DTEND:20200402T000000Z
DTSTAMP:20260421T042836Z
DTSTART:20200327T000000Z
LAST-MODIFIED:20200325T155121Z
LOCATION:Akureyri\, Iceland
SEQUENCE:0
SUMMARY:Arctic Science Summit Week (ASSW) 2020
UID:929780a1-6906-4efa-bc00-453024dfb0e6@www.uarctic.org
URL:https://www.uarctic.org/about-us/calendar/arctic-science-summit-week-as
 sw-2020/
END:VEVENT
END:VCALENDAR
