BEGIN:VCALENDAR
PRODID:-//github.com/ical-org/ical.net//NONSGML ical.net 5.1.3//EN
VERSION:2.0
BEGIN:VEVENT
DESCRIPTION:Arctic Science Summit Week (ASSW) 2021 will be held in Lisbon\,
  Portugal\, 20-26 March 2021.
DTEND:20210326T000000Z
DTSTAMP:20260420T181547Z
DTSTART:20210320T000000Z
LAST-MODIFIED:20200207T130547Z
LOCATION:Lisbon\, Portugal
SEQUENCE:0
SUMMARY:Arctic Science Summit Week (ASSW) 2021
UID:c25cbd20-ca0b-4e77-9e9f-63b69b253d9c@www.uarctic.org
URL:https://www.uarctic.org/about-us/calendar/arctic-science-summit-week-as
 sw-2021/
END:VEVENT
END:VCALENDAR
