BEGIN:VCALENDAR
PRODID:-//github.com/ical-org/ical.net//NONSGML ical.net 5.1.3//EN
VERSION:2.0
BEGIN:VEVENT
DESCRIPTION:\nThe Arctic Science Summit Week (ASSW) 2027 will take place on
  12-20 of April 2027 in Hakodate\, Hokkaido.\n
DTEND:20270420T000000Z
DTSTAMP:20260423T034406Z
DTSTART:20270412T000000Z
LAST-MODIFIED:20260313T144737Z
LOCATION:Hakodate\, Hokkaido
SEQUENCE:0
SUMMARY:Arctic Science Summit Week (ASSW) 2027
UID:77d470ba-554c-4da8-b6a3-8e4049a0b983@www.uarctic.org
URL:https://www.uarctic.org/about-us/calendar/arctic-science-summit-week-as
 sw-2027/
END:VEVENT
END:VCALENDAR
