BEGIN:VCALENDAR
PRODID:-//github.com/ical-org/ical.net//NONSGML ical.net 5.1.3//EN
VERSION:2.0
BEGIN:VEVENT
DESCRIPTION:\n\nThe Arctic Science Summit Week (ASSW) 2028 will take place 
 in March of 2028 in Porto\, Portugal.\n\n
DTEND:20280331T000000Z
DTSTAMP:20260423T034406Z
DTSTART:20280301T000000Z
LAST-MODIFIED:20260313T144924Z
LOCATION:Porto\, Portugal
SEQUENCE:0
SUMMARY:Arctic Science Summit Week (ASSW) 2028
UID:c3036f00-0598-4b53-b6d4-6a71336d56e1@www.uarctic.org
URL:https://www.uarctic.org/about-us/calendar/arctic-science-summit-week-as
 sw-2028/
END:VEVENT
END:VCALENDAR
