BEGIN:VCALENDAR
PRODID:-//github.com/ical-org/ical.net//NONSGML ical.net 5.1.3//EN
VERSION:2.0
BEGIN:VEVENT
DESCRIPTION:Building on the success of its previous Annual Scientific Meeti
 ngs and International Arctic Change Conferences\, the ArcticNet Network of
  Centres of Excellence announces the 14th ArcticNet Annual Scientific Meet
 ing\, which will be held at the Shaw Centre in Ottawa\, Canada from Decemb
 er 10-14\, 2018. Arctic researchers\, Inuit\, First Nations\, Métis and N
 orthern Community representatives\, government and non-government organiza
 tions\, students\, and industry stakeholders are encouraged to attend.
DTEND:20181214T000000Z
DTSTAMP:20260421T020238Z
DTSTART:20181210T000000Z
LAST-MODIFIED:20180726T080909Z
LOCATION:Ottawa\, Canada
SEQUENCE:0
SUMMARY:ArcticNet Annual Scientific Meeting 2018 (ASM2018)
UID:ea3317fd-6060-48ef-8524-8832c083e967@www.uarctic.org
URL:https://www.uarctic.org/about-us/calendar/arcticnet-annual-scientific-m
 eeting-2018-asm2018/
END:VEVENT
END:VCALENDAR
