BEGIN:VCALENDAR
PRODID:-//github.com/ical-org/ical.net//NONSGML ical.net 5.1.3//EN
VERSION:2.0
BEGIN:VEVENT
DESCRIPTION:The University of Nordland (Bodø\, Norway) is organizing the c
 onference "Barents Region and Beyond - Internationalizing Higher Education
 " June 2-3\, 2015. Conference website.
DTEND:20150603T170000Z
DTSTAMP:20260421T093035Z
DTSTART:20150602T090000Z
LAST-MODIFIED:20160527T183406Z
LOCATION:Bodø\, Norway
SEQUENCE:0
SUMMARY:Barents Region and Beyond - Internationalizing Higher Education
UID:cf10bc89-be7b-48e6-bf69-2af0ebbc8b4f@www.uarctic.org
URL:https://www.uarctic.org/about-us/calendar/barents-region-and-beyond-int
 ernationalizing-higher-education/
END:VEVENT
END:VCALENDAR
