BEGIN:VCALENDAR
PRODID:-//github.com/ical-org/ical.net//NONSGML ical.net 5.1.3//EN
VERSION:2.0
BEGIN:VEVENT
DESCRIPTION:The twenty-first session of the Conference of the Parties (COP)
  and the eleventh session of the Conference of the Parties serving as the
  meeting of the Parties to the Kyoto Protocol (CMP) will take place from 3
 0 November to 11 December 2015\, in Paris\, France.
DTEND:20151211T170000Z
DTSTAMP:20260421T060912Z
DTSTART:20151130T090000Z
LAST-MODIFIED:20160527T183404Z
LOCATION:Paris\, France
SEQUENCE:0
SUMMARY:COP21 Paris Climate Change Conference
UID:c5d78eab-738b-44b6-84c3-efac764790d3@www.uarctic.org
URL:https://www.uarctic.org/about-us/calendar/cop21-paris-climate-change-co
 nference/
END:VEVENT
END:VCALENDAR
