BEGIN:VCALENDAR
PRODID:-//github.com/ical-org/ical.net//NONSGML ical.net 5.1.3//EN
VERSION:2.0
BEGIN:VEVENT
DESCRIPTION:The European Commission\, the European External Action Service\
 , and the Government of Sweden will jointly organize a high-level EU Arcti
 c Forum on 3-4 October 2019 in Umeå\, Sweden.
DTEND:20191004T000000Z
DTSTAMP:20260420T120545Z
DTSTART:20191003T000000Z
LAST-MODIFIED:20190321T090147Z
LOCATION:Umeå\, Sweden
SEQUENCE:0
SUMMARY:EU Arctic Forum
UID:29b100ff-5922-40e1-9c05-52e2d576fda7@www.uarctic.org
URL:https://www.uarctic.org/about-us/calendar/eu-arctic-forum/
END:VEVENT
END:VCALENDAR
