BEGIN:VCALENDAR
PRODID:-//github.com/ical-org/ical.net//NONSGML ical.net 5.1.3//EN
VERSION:2.0
BEGIN:VEVENT
DESCRIPTION:The public symposium gathers together Arctic scientists\, stude
 nts\, policymakers\, industry and NGO representatives and other key stakeh
 olders as well as the general public.
DTEND:20160211T170000Z
DTSTAMP:20260423T164107Z
DTSTART:20160211T080000Z
LAST-MODIFIED:20160527T183400Z
LOCATION:Oulu\, Finland
SEQUENCE:0
SUMMARY:Fulbright Arctic Symposium\, Oulu
UID:1aeb5ed2-0725-4806-9f54-720e519b87bd@www.uarctic.org
URL:https://www.uarctic.org/about-us/calendar/fulbright-arctic-symposium-ou
 lu/
END:VEVENT
END:VCALENDAR
