BEGIN:VCALENDAR
PRODID:-//github.com/ical-org/ical.net//NONSGML ical.net 5.1.3//EN
VERSION:2.0
BEGIN:VEVENT
DESCRIPTION:Info coming soon!
DTEND:20231109T000000Z
DTSTAMP:20260420T034934Z
DTSTART:20231107T000000Z
LAST-MODIFIED:20230530T121414Z
LOCATION:Nuuk
SEQUENCE:0
SUMMARY:Greenland Science Week 2023\, Nuuk
UID:daf32ded-9944-4c60-8a4c-fbc0af7f02e9@www.uarctic.org
URL:https://www.uarctic.org/about-us/calendar/greenland-science-week-2023-n
 uuk/
END:VEVENT
END:VCALENDAR
