BEGIN:VCALENDAR
PRODID:-//github.com/ical-org/ical.net//NONSGML ical.net 5.1.3//EN
VERSION:2.0
BEGIN:VEVENT
DESCRIPTION:The High North Dialogue in Bodø\, Norway takes place April 18-
 21\, 2023. This an annual conference brings together major stakeholders co
 ncerned with Arctic development. We encourage and facilitate dialogue to p
 romote sustainable development in the Arctic\, as well as the sharing of i
 nformation and the discussion of best practices.
DTEND:20230421T000000Z
DTSTAMP:20260420T161255Z
DTSTART:20230418T000000Z
LAST-MODIFIED:20230217T082224Z
LOCATION:Bodø\, Norway
SEQUENCE:0
SUMMARY:High North Dialogue 2023
UID:eedcf3c1-926a-439c-9161-fb235ed83e2a@www.uarctic.org
URL:https://www.uarctic.org/about-us/calendar/high-north-dialogue-2023/
END:VEVENT
END:VCALENDAR
